BEGIN:VCALENDAR
VERSION:2.0
PRODID:-//www.conscious.co.uk//Conscious CMS.iCal 1.0//EN
BEGIN:VEVENT
DESCRIPTION:Get updated on the latest changes in employment law at our in-person seminar - a must-attend event for staying ahead in the workplace!Due to popular demand we have added this as a second date! Our employment experts will be talking about-    	Forthcoming family friendly changes including-  	  		Extending redundancy protection for pregnant women and new parents  		Neonatal care leave  		Carer's leave  	  	  	Amendments to the Equality Act post Brexit to codify certain EU-derived discrimination protections  	Changes to the existing flexible working regime and the draft ACAS Guidance  	Reforms to holiday pay calculations, working time record keeping requirements and TUPE post Brexit  	Changes to the Rehabilitation of Offenders legislation  	Forthcoming right for workers to request predictable working pattern  	Key case law update, including holiday pay calculations      Don't miss this opportunity to stay up-to-date and ensure compliance with the ever-evolving employment landscape. Mark your calendars and be prepared for an informative and engaging seminar!  The cost to attend is £50 to include a buffet lunch.
DTEND:20240307T140000
DTSTAMP:20240131T154011
DTSTART:20240307T090000
LOCATION:Chewton Glen Hotel\, New Milton\, Hampshire
SEQUENCE:0
SUMMARY:Employment Law Update
UID:event8841@www.frettens.co.uk
URL:http://www.frettens.co.uk/site/events/eventlisting/event45_8841
END:VEVENT
END:VCALENDAR
