BEGIN:VCALENDAR
VERSION:2.0
PRODID:-//www.conscious.co.uk//Conscious CMS.iCal 1.0//EN
BEGIN:VEVENT
DESCRIPTION:A networking lunch for Business Owners and Company Directors.Join Frettens Solicitors for a networking lunch at the beautiful Captains Club Hotel.12-00 Arrival and welcome drink  13-00 Speeches  13-15-13-30 3-course lunch  15-30 Lunch finishesPlease note this is an invite only event. If you would be interested in attending, please email events@frettens.co.uk
DTEND:20260925T153000
DTSTAMP:20251217T092420
DTSTART:20260925T120000
LOCATION:Captains Club\, Christchurch
SEQUENCE:0
SUMMARY:Directors Dining Club
UID:event9096@www.frettens.co.uk
URL:http://www.frettens.co.uk/site/events/eventlisting/event45_9096
END:VEVENT
END:VCALENDAR
