BEGIN:VCALENDAR
VERSION:2.0
PRODID:-//www.conscious.co.uk//Conscious CMS.iCal 1.0//EN
BEGIN:VEVENT
DESCRIPTION:Join Chris Dobbs for his May Coffee Break Briefing.For this session, Chris will be joined by our Head of HR Services, Nathan Andrews.To book your FREE spot, register your details.
DTEND:20260506T110000
DTSTAMP:20260416T144639
DTSTART:20260506T100000
LOCATION:Online
SEQUENCE:0
SUMMARY:HR Coffee Break Briefing: Probation Periods and Changing Unfair Dismissal Rights
UID:event9143@www.frettens.co.uk
URL:http://www.frettens.co.uk/site/events/eventlisting/event45_9143
END:VEVENT
END:VCALENDAR
