BEGIN:VCALENDAR
VERSION:2.0
PRODID:-//www.conscious.co.uk//Conscious CMS.iCal 1.0//EN
BEGIN:VEVENT
DESCRIPTION:Join Chris Dobbs for his June Coffee Break Briefing.    Many sectors have made effective use of zero-hours contracts for many years, the gig economy is almost entirely built on them. The changes under the Employment Rights Act will affect all businesses making use of zero- or low-hours contracts with new obligations requiring employers to be proactive in managing these arrangements.  Chris will be exploring these changes and the practical effect for businesses in the June Coffee Break Briefing.    To book your FREE spot, register your details.  
DTEND:20260603T110000
DTSTAMP:20260416T154540
DTSTART:20260603T100000
LOCATION:Online
SEQUENCE:0
SUMMARY:HR Coffee Break Briefing: Zero-Hours Contracts
UID:event9144@www.frettens.co.uk
URL:http://www.frettens.co.uk/site/events/eventlisting/event45_9144
END:VEVENT
END:VCALENDAR
